BEGIN:VCALENDAR
VERSION:2.0
PRODID:-//ExpressionEngine Easy iCalendar plugin//NONSGML v2.0.1//EN
X-WR-TIMEZONE:America/New_York
X-WR-CALNAME:Upcoming Auctions
BEGIN:VEVENT
UID:139715
DTSTAMP:20260507T100000
DTSTART:20260507T100000
DTEND:20260507T150000
SUMMARY:1st Thursday Valuations at Doylestown | Meet Our Fine Arts S
 pecialist Christian Answini | May 7\, 2026 from 10AM - 3PM
LOCATION:3359 Durham Rd\, Doylestown\, PA 18902\, US
DESCRIPTION:Come to our location in Doylestown on the 1st Thursday of ev
 ery month to have our specialists valuate your personal item
 s.  On May 7th\, meet Christian Answini\, our Sr. Fine Art Sp
 ecialist and writer of the Alderfer Auction Blog\, valuate yo
 ur personal items. Limit 2 items. Christian contributes a r
 ange of skills as an auctioneer\, historian\, and scientist wh
 ich offer both a broad and targeted knowledge base to our Fi
 ne and Decorative Art\, Specialty\, and Single Owner auctions.
  His thorough research and Renaissance approach have yielded
  success for our consignors in a wide range of merchandise i
 ncluding fine art\, silver\, Americana\, comic books\, and pop c
 ulture materials. Christian’s 10+ years as an auctioneer a
 nd 6 years serving on the Board of Directors of the Pennsylv
 ania Auctioneers Association has enabled him to build a stro
 ng local and national network within the auction\, antique\, a
 nd fine art community. Seeking for valuation: Fine Art | Je
 welry | Silver | Decoratives | Mid-Century Modern | Bronzes 
 & Sculpture | Porcelain | Pottery | Rugs | Coins | Vehicles
  | Equipment | Firearms | Militaria | Historical| Musical In
 struments | Sports Memorabilia | Vintage Toys | Collectibles
  | Estate Sales.
URL:https://www.alderferauction.com/auctions/detail/bw139715
SEQUENCE:1
END:VEVENT
END:VCALENDAR