BEGIN:VCALENDAR
VERSION:2.0
PRODID:-//ExpressionEngine Easy iCalendar plugin//NONSGML v2.0.1//EN
X-WR-TIMEZONE:America/New_York
X-WR-CALNAME:Upcoming Auctions
BEGIN:VEVENT
UID:158588
DTSTAMP:20260402T160000
DTSTART:20260402T160000
DTEND:20260402T160000
SUMMARY:Sold! Real Estate For Auction |  268 W. Orvilla Rd.\, Lansdal
 e PA  19446 | April 2\, 2026 at 4:00 PM
LOCATION:268 W. Orvilla Rd\, Lansdale\, PA 19446\, US
DESCRIPTION:WE SELL REAL ESTATE! This 2\,426 sq ft home at 268 W. Orvilla
  Rd. in Towamencin Township offers modern living with Mid-Ce
 ntury Modern touches. Built in 2012 within the North Penn Sc
 hool District\, it features a chef's kitchen with gas cooking
  and a granite island\, a great room with high ceilings and a
  gas fireplace\, and a dedicated office on the main level. Th
 e second floor includes a primary suite with a soaking tub a
 nd separate shower\, plus three additional bedrooms and a lau
 ndry room. The basement is set up as a professional-grade st
 udio. Outside\, there's a back deck and an oversized two-car 
 garage. This home sells at auction on Thursday\, April 2nd at
  4:00 PM. Sells at or above $500\,000. Additionally\, the hom
 e’s contents will be sold via an estate sale at AlderferAu
 ction.com with bidding open from April 15th through the 27th
 . Don’t miss the opportunity to own this home in a prime l
 ocation between Allentown Rd and Rt 63\, Lansdale.
URL:https://www.alderferauction.com/auctions/detail/bw158588
SEQUENCE:1
END:VEVENT
END:VCALENDAR