BEGIN:VCALENDAR
VERSION:2.0
PRODID:-//ExpressionEngine Easy iCalendar plugin//NONSGML v2.0.1//EN
X-WR-TIMEZONE:America/New_York
X-WR-CALNAME:Upcoming Auctions
BEGIN:VEVENT
UID:159271
DTSTAMP:20260610T100000
DTSTART:20260610T100000
DTEND:20260610T110000
SUMMARY:Mid-Century Modern and Design | June 10\, 2026 | Invitation T
 o Consign
LOCATION:501 Fairgrounds Road\, Hatfield\, PA 19440\, US
DESCRIPTION:The numbers are in\, and the market for iconic design is stro
 nger than ever! Our March 18 Mid-Century Modern & Design auc
 tion saw spirited global bidding\, proving that exceptional p
 rovenance and craftsmanship always command center stage. Fi
 nn Juhl and Phillip Lloyd Powell drew especially competitiv
 e bidding. A pair of Finn Juhl for Niels Vodder Model 109 ch
 airs soared to $36\,250 against an $8\,000 high estimate\, whil
 e the Finn Juhl “Judas” dining table realized $31\,250 an
 d a pair of Model 53 easy chairs brought $28\,750.  A Finn J
 uhl Model 53 sofa also performed well at $20\,000. The Penns
 ylvania Studio Craft movement continues to be a powerhouse\, 
 led by the incredible works of Phillip Lloyd Powell: One scu
 lpted cabinet sold for $28\,750\, another cabinet reached $26\,
 250\, and a room divider achieving $21\,250. Ready to Consign
 ? These results aren't just numbers—they are a testament 
 to our targeted global marketing and specialized expertise. 
 If you have quality Mid-Century Modern furniture\, 20th-centu
 ry design\, or Studio Craft pieces\, now is the time to bring 
 them to market. Our next Mid-Century Modern and Design aucti
 on is June 10th. Sell alongside Andy Warhol and other legen
 dary designers and makers. Contact us today to discuss your 
 collection. Deadline to consign is May 12th.
URL:https://www.alderferauction.com/auctions/detail/bw159271
SEQUENCE:1
END:VEVENT
END:VCALENDAR