BEGIN:VCALENDAR
VERSION:2.0
PRODID:-//ExpressionEngine Easy iCalendar plugin//NONSGML v2.0.1//EN
X-WR-TIMEZONE:America/New_York
X-WR-CALNAME:Upcoming Auctions
BEGIN:VEVENT
UID:159315
DTSTAMP:20260611T100000
DTSTART:20260611T100000
DTEND:20260611T110000
SUMMARY:Fine and Decorative Arts | June 11\, 2026 | Invitation To Con
 sign
LOCATION:501 Fairgrounds Road\, Hatfield\, PA 19440\, US
DESCRIPTION:Take a look at some of the phenomenal highlights from our Ma
 rch Fine & Decorative Arts auction-  From breathtaking fine
  art to dazzling jewelry and luxury antiques\, the results sp
 eak for themselves. The sale was led by exceptional demand 
 for works by Edward Willis Redfield and Fern Isabel Coppedge
 . Redfield’s Lot 4215 realized $98\,240\, while another Redf
 ield work\, Lot 4220\, brought $68\,750\, exceeding its high est
 imate. Coppedge paintings also performed strongly\, with one 
 example reaching $65\,625 and another realizing $50\,000. Silv
 er was another standout category\, led by Tiffany & Co. A Tif
 fany “San Lorenzo” sterling silver flatware service for 
 12 with extras realized $34\,375\, well above estimate\, while 
 a Tiffany “Chrysanthemum” flatware service sold for $18\,
 750. A Tiffany sterling silver aesthetic tea and coffee serv
 ice added further depth to the category at $12\,500. Jewelry 
 saw strong competition throughout the sale. A platinum diamo
 nd ring weighing 5.29 carats realized $46\,875\, and a Cartier
  platinum diamond brooch achieved $15\,000. Luxury accessorie
 s also posted impressive results\, highlighted by a Louis Vui
 tton travel trunk that sold for $31\,250\, far surpassing its 
 estimate. Ready to Consign? Our next Fine and Decorative Ar
 ts auction is slated for June 11th. Sell alongside Edward Wi
 llis Redfield\, David Rittenhouse and other legendary artists
 \, designers and makers. Join our next success story. Contact
  us today to discuss your collection. Deadline to consign fo
 r June is is May 12th.
URL:https://www.alderferauction.com/auctions/detail/bw159315
SEQUENCE:1
END:VEVENT
END:VCALENDAR