BEGIN:VCALENDAR
VERSION:2.0
PRODID:-//ExpressionEngine Easy iCalendar plugin//NONSGML v2.0.1//EN
X-WR-TIMEZONE:America/New_York
X-WR-CALNAME:Upcoming Auctions
BEGIN:VEVENT
UID:159412
DTSTAMP:20260519T190000
DTSTART:20260519T190000
DTEND:20260519T200000
SUMMARY:Vehicles | May 19\, 2026 | Invitation To Consign
LOCATION:501 Fairgrounds Road\, Hatfield\, PA 19440\, US
DESCRIPTION:Have a vehicle to sell? We are inviting consignments for our
  May 19th Auction: Antique Cars\, Classic Cars\, Collectible C
 ars\, Everyday Cars and Trucks\, Exotic Cars\, Sports Cars\, and
  Luxury Cars. From Classic to Contemporary\, Alderfer Auction
  can assist in marketing your vehicles. Alderfer Auction has
  a unique market of collectors and clients who choose to pur
 chase through the auction method of marketing. The method br
 ings buyers and sellers together to establish a fair and cur
 rent market value of an automobile. Alderfer’s ability to 
 showcase your vehicle through a national advertising campaig
 n gives you the confidence that the highest price will be ac
 hieved. If you have a motor vehicle that you would like to s
 ell\, please contact us today for a free valuation. Sell alon
 gside this 2013 Cadillac Escalade Platinum\, 1992 Ford Mustan
 g Coupe\, 2012 Mazda 2\, 2002 Ford Thunderbird\, 1989 Mazda RX
 7\, 2005 Ebbtide 22' Bowrider Boat\, 2018 Gulfstream Friends
 hip Travel Trailer and more. Deadline to consign for our May
  auction is April 21st.
URL:https://www.alderferauction.com/auctions/detail/bw159412
SEQUENCE:1
END:VEVENT
END:VCALENDAR