BEGIN:VCALENDAR
VERSION:2.0
PRODID:-//ExpressionEngine Easy iCalendar plugin//NONSGML v2.0.1//EN
X-WR-TIMEZONE:America/New_York
X-WR-CALNAME:Upcoming Auctions
BEGIN:VEVENT
UID:159990
DTSTAMP:20260426T130000
DTSTART:20260426T130000
DTEND:20260426T140000
SUMMARY:Real Estate For Sale | 3795 Rt. 202\, Doylestown\, PA 18902
LOCATION:3795 Rt. 202\, Doylestown\, PA 18902\, US
DESCRIPTION:Open House: Sunday\, April 26th from 1:00 PM - 3:00 PM. Now o
 ffered at a newly improved price\, this premier Bucks County 
 property presents an unparalleled opportunity to secure a hi
 gh-visibility location for your business. This unique multi
 -use office/professional space located in the heart of Bucks
  County\, is more than just a building—it’s a strategic a
 dvantage. Whether you are looking to launch a flagship showr
 oom or create a custom live-work sanctuary\, this space adapt
 s to your vision. With high visibility of 20\,000 cars a day\,
  this unique 4\,900 sq ft mixed-use property office/residence
  sits on 1.3 gated tranquil acres\, offering a rare D-3 varia
 nce for professional use.  The 2\,400 sq ft business interio
 r features three levels\, including a loft\, main floor and lo
 wer level including two half baths and private office.   T
 he 2\,500 sq ft residential space is on two levels\, featuring
  two bedrooms on the main floor and a third on the ground fl
 oor. The convenience of a 2-car attached garage with added s
 torage area is a bonus to this residential area. Outdoor ame
 nities on the 1.3 acres include an in-ground\, heated pool\, a
 nd a charming courtyard area with outdoor firepit\, perfect f
 or entertaining\, team gatherings\, or client events. An autom
 atic gate enhances privacy and security\, leading to the resi
 dence area while the contrast between the busy street fronta
 ge and the tranquil rear views offers a rare balance of ener
 gy and escape. Zoned R-1 with a D-3 variance allowing profes
 sional use.  This zoning allows for various options:  100%
  residence or the current mixed-use of residence and office/
 professional. Price Improvement: This property is offered fo
 r sale at $1\,275\,000.
URL:https://www.alderferauction.com/auctions/detail/bw159990
SEQUENCE:1
END:VEVENT
END:VCALENDAR